BEGIN:VCALENDAR
VERSION:2.0
PRODID:-//CASIM 44 - ECPv6.15.20//NONSGML v1.0//EN
CALSCALE:GREGORIAN
METHOD:PUBLISH
X-WR-CALNAME:CASIM 44
X-ORIGINAL-URL:https://casim44.fr
X-WR-CALDESC:Évènements pour CASIM 44
REFRESH-INTERVAL;VALUE=DURATION:PT1H
X-Robots-Tag:noindex
X-PUBLISHED-TTL:PT1H
BEGIN:VTIMEZONE
TZID:Europe/Paris
BEGIN:DAYLIGHT
TZOFFSETFROM:+0100
TZOFFSETTO:+0200
TZNAME:CEST
DTSTART:20250330T010000
END:DAYLIGHT
BEGIN:STANDARD
TZOFFSETFROM:+0200
TZOFFSETTO:+0100
TZNAME:CET
DTSTART:20251026T010000
END:STANDARD
BEGIN:DAYLIGHT
TZOFFSETFROM:+0100
TZOFFSETTO:+0200
TZNAME:CEST
DTSTART:20260329T010000
END:DAYLIGHT
BEGIN:STANDARD
TZOFFSETFROM:+0200
TZOFFSETTO:+0100
TZNAME:CET
DTSTART:20261025T010000
END:STANDARD
BEGIN:DAYLIGHT
TZOFFSETFROM:+0100
TZOFFSETTO:+0200
TZNAME:CEST
DTSTART:20270328T010000
END:DAYLIGHT
BEGIN:STANDARD
TZOFFSETFROM:+0200
TZOFFSETTO:+0100
TZNAME:CET
DTSTART:20271031T010000
END:STANDARD
END:VTIMEZONE
BEGIN:VEVENT
DTSTART;TZID=Europe/Paris:20260425T093000
DTEND;TZID=Europe/Paris:20260425T123000
DTSTAMP:20260420T133633
CREATED:20250721T103443Z
LAST-MODIFIED:20250807T213253Z
UID:17330-1777109400-1777120200@casim44.fr
SUMMARY:CASIM: Tout-Terrain - Groupe Matin
DESCRIPTION:
URL:https://casim44.fr/event/tout-terrain-groupe-matin-2/
END:VEVENT
BEGIN:VEVENT
DTSTART;TZID=Europe/Paris:20260425T140000
DTEND;TZID=Europe/Paris:20260425T163000
DTSTAMP:20260420T133633
CREATED:20250721T103521Z
LAST-MODIFIED:20250807T210557Z
UID:17332-1777125600-1777134600@casim44.fr
SUMMARY:CASIM: Tout-Terrain - Groupe Après-Midi
DESCRIPTION:
URL:https://casim44.fr/event/tout-terrain-groupe-apres-midi-2/
END:VEVENT
BEGIN:VEVENT
DTSTART;TZID=Europe/Paris:20260503T090000
DTEND;TZID=Europe/Paris:20260503T170000
DTSTAMP:20260420T133633
CREATED:20251013T125637Z
LAST-MODIFIED:20251013T130006Z
UID:17785-1777798800-1777827600@casim44.fr
SUMMARY:CASIM: Balade de printemps
DESCRIPTION:
URL:https://casim44.fr/event/balade-de-printemps/
CATEGORIES:Balade
END:VEVENT
BEGIN:VEVENT
DTSTART;TZID=Europe/Paris:20260509T150000
DTEND;TZID=Europe/Paris:20260509T180000
DTSTAMP:20260420T133633
CREATED:20250721T103611Z
LAST-MODIFIED:20250807T210552Z
UID:17334-1778338800-1778349600@casim44.fr
SUMMARY:CASIM: Maniabilité - Freinage
DESCRIPTION:
URL:https://casim44.fr/event/maniabilite-freinage-3/
LOCATION:Foyer de l’Aubinière\, 20 Rue de La Cadoire\, Sainte-Luce-sur-Loire
END:VEVENT
BEGIN:VEVENT
DTSTART;TZID=Europe/Paris:20260509T210000
DTEND;TZID=Europe/Paris:20260509T223000
DTSTAMP:20260420T133633
CREATED:20250721T103650Z
LAST-MODIFIED:20250807T210548Z
UID:17336-1778360400-1778365800@casim44.fr
SUMMARY:CASIM: Conduite de Nuit
DESCRIPTION:
URL:https://casim44.fr/event/conduite-de-nuit/
LOCATION:Foyer de l’Aubinière\, 20 Rue de La Cadoire\, Sainte-Luce-sur-Loire
END:VEVENT
BEGIN:VEVENT
DTSTART;TZID=Europe/Paris:20260523T080000
DTEND;TZID=Europe/Paris:20260525T180000
DTSTAMP:20260420T133633
CREATED:20250721T104435Z
LAST-MODIFIED:20250807T210541Z
UID:17342-1779523200-1779732000@casim44.fr
SUMMARY:CASIM:  Week-End Pentecôte
DESCRIPTION:Le célèbre WEP
URL:https://casim44.fr/event/week-end-pentecote-2/
END:VEVENT
BEGIN:VEVENT
DTSTART;TZID=Europe/Paris:20260607T100000
DTEND;TZID=Europe/Paris:20260607T170000
DTSTAMP:20260420T133633
CREATED:20250721T103726Z
LAST-MODIFIED:20250807T213302Z
UID:17338-1780826400-1780851600@casim44.fr
SUMMARY:CASIM: Maniabilité - Freinage - Virages
DESCRIPTION:
URL:https://casim44.fr/event/maniabilite-freinage-virages/
LOCATION:CDPC Bouguenais\, Centre Départemental du Permis de Conduire - Route de Bouaye (M751A)\, Bouguenais
END:VEVENT
BEGIN:VEVENT
DTSTART;TZID=Europe/Paris:20260614T090000
DTEND;TZID=Europe/Paris:20260614T170000
DTSTAMP:20260420T133633
CREATED:20250721T103804Z
LAST-MODIFIED:20250807T210459Z
UID:17340-1781427600-1781456400@casim44.fr
SUMMARY:CASIM: Visas pour la vie
DESCRIPTION:
URL:https://casim44.fr/event/visas-pour-la-vie/
LOCATION:CDPC Bouguenais\, Centre Départemental du Permis de Conduire - Route de Bouaye (M751A)\, Bouguenais
END:VEVENT
BEGIN:VEVENT
DTSTART;TZID=Europe/Paris:20260626T150000
DTEND;TZID=Europe/Paris:20260628T190000
DTSTAMP:20260420T133633
CREATED:20250721T104531Z
LAST-MODIFIED:20250721T104531Z
UID:17344-1782486000-1782673200@casim44.fr
SUMMARY:Inter-CASIM
DESCRIPTION:
URL:https://casim44.fr/event/inter-casim/
LOCATION:Quelque part en France :)
END:VEVENT
BEGIN:VEVENT
DTSTART;TZID=Europe/Paris:20260703T190000
DTEND;TZID=Europe/Paris:20260703T230000
DTSTAMP:20260420T133633
CREATED:20251013T125533Z
LAST-MODIFIED:20251013T130056Z
UID:17783-1783105200-1783119600@casim44.fr
SUMMARY:CASIM: Soirée de fin de saison
DESCRIPTION:Soirée festive dans un lieu sympa pour célébrer une belle saison CASIM
URL:https://casim44.fr/event/soiree-de-fin-de-saison/
END:VEVENT
BEGIN:VEVENT
DTSTART;TZID=Europe/Paris:20260705T090000
DTEND;TZID=Europe/Paris:20260705T170000
DTSTAMP:20260420T133633
CREATED:20251013T125730Z
LAST-MODIFIED:20251013T130043Z
UID:17787-1783242000-1783270800@casim44.fr
SUMMARY:CASIM: Balade de l'été
DESCRIPTION:Dernier évènement de la saison !
URL:https://casim44.fr/event/balade-de-lete/
CATEGORIES:Balade
END:VEVENT
END:VCALENDAR